BEGIN:VCALENDAR
VERSION:2.0
PRODID:-//sp-foundation.org//NONSGML kigkonsult.se iCalcreator 2.30.10//
CALSCALE:GREGORIAN
METHOD:PUBLISH
UID:a0f3eb5f-883d-48ee-8d7b-ab6b4538e89d
X-WR-CALDESC:This is an open discussion regarding PLS everyone is welcome.
 \nUse the link\nhttps://als-org.zoom.us/j/82879731716
X-WR-RELCALID:40db25a33e7be579903c0d33eb652c79
X-WR-TIMEZONE:America/Los_Angeles
BEGIN:VTIMEZONE
TZID:America/Los_Angeles
BEGIN:STANDARD
TZNAME:PST
DTSTART:20241103T020000
TZOFFSETFROM:-0700
TZOFFSETTO:-0800
RDATE:20251102T020000
RDATE:20261101T020000
END:STANDARD
BEGIN:DAYLIGHT
TZNAME:PDT
DTSTART:20250309T020000
TZOFFSETFROM:-0800
TZOFFSETTO:-0700
RDATE:20260308T020000
END:DAYLIGHT
END:VTIMEZONE
BEGIN:VEVENT
UID:c168b974-160e-4606-b487-82ed089b41bc
DTSTAMP:20260420T174122Z
DESCRIPTION:This is an open discussion regarding PLS everyone is welcome.\n
 Use the link\nhttps://als-org.zoom.us/j/82879731716
DTSTART;TZID=America/Los_Angeles:20250906T100000
DTEND;TZID=America/Los_Angeles:20250906T110000
LOCATION:https://als-org.zoom.us/j/82879731716
SUMMARY:PLS Support Group sponsored by the ALS Association
END:VEVENT
END:VCALENDAR
