BEGIN:VCALENDAR
VERSION:2.0
PRODID:-//sp-foundation.org//NONSGML kigkonsult.se iCalcreator 2.30.10//
CALSCALE:GREGORIAN
METHOD:PUBLISH
UID:7aa2124d-07ba-42ac-9e20-dd64a965c81a
X-WR-CALDESC:The meetings will be conducted through Zoom.\nIf you would lik
 e\, you can download and import the following iCalendar (.ics) files to yo
 ur calendar system.\nMonthly: https://umich-health.zoom.us/meeting/tJErcOy
 qqj0jGdAx41l5jcrI9y4TP5KOCsLU/ics?icsToken=98tyKuCtqDwvGNCTuRqDRowMBI_CZ-r
 wiCFEjad8hEu0D3VZYRHfb_sWBoIqO_fz\n \nJoin Zoom Meeting\nhttps://umich-hea
 lth.zoom.us/j/95675246934\nMeeting ID: 956 7524 6934\nPasscode: 935755\n\n
  One tap mobile\n+13017158592\,\,95675246934# US (Germantown) 13126266799\
 ,\,95675246934# US\n+(Chicago)\n\n Dial by your location\n        +1 301 7
 15 8592 US (Germantown)\n\n        +1 312 626 6799 US (Chicago)\n\n       
  +1 646 558 8656 US (New York)\n\n        +1 253 215 8782 US (Tacoma)\n\n 
        +1 346 248 7799 US (Houston)\n\n        +1 669 900 9128 US (San Jos
 e)\nMeeting ID: 956 7524 6934\nPasscode: 935755\n\nFind your local number:
  https://umich-health.zoom.us/u/acFKyiyEz9\n\nJoin by SIP\n95675246934@zoo
 mcrc.com\nJoin by H.323\n162.255.37.11 (US West)\n\n162.255.36.11 (US East
 )\n\n115.114.131.7 (India Mumbai)\n\n115.114.115.7 (India Hyderabad)\n\n21
 3.19.144.110 (Amsterdam Netherlands)\n\n213.244.140.110 (Germany)\n\n103.1
 22.166.55 (Australia)\n\n149.137.40.110 (Singapore)\n\n64.211.144.160 (Bra
 zil)\n\n69.174.57.160 (Canada)\n\n207.226.132.110 (Japan)\n\nMeeting ID: 9
 56 7524 6934\n
X-WR-RELCALID:16cd5beeeaa279cad904f3825779bc67
X-WR-TIMEZONE:America/New_York
BEGIN:VTIMEZONE
TZID:America/New_York
BEGIN:STANDARD
TZNAME:EST
DTSTART:20211107T020000
TZOFFSETFROM:-0400
TZOFFSETTO:-0500
RDATE:20221106T020000
END:STANDARD
BEGIN:DAYLIGHT
TZNAME:EDT
DTSTART:20210314T020000
TZOFFSETFROM:-0500
TZOFFSETTO:-0400
RDATE:20220313T020000
RDATE:20230312T020000
END:DAYLIGHT
END:VTIMEZONE
BEGIN:VEVENT
UID:d3e10738-b96f-4071-b76a-45e6f2c1a04b
DTSTAMP:20260421T011605Z
DESCRIPTION:The meetings will be conducted through Zoom.\nIf you would like
 \, you can download and import the following iCalendar (.ics) files to you
 r calendar system.\nMonthly: https://umich-health.zoom.us/meeting/tJErcOyq
 qj0jGdAx41l5jcrI9y4TP5KOCsLU/ics?icsToken=98tyKuCtqDwvGNCTuRqDRowMBI_CZ-rw
 iCFEjad8hEu0D3VZYRHfb_sWBoIqO_fz\n \nJoin Zoom Meeting\nhttps://umich-heal
 th.zoom.us/j/95675246934\nMeeting ID: 956 7524 6934\nPasscode: 935755\n\n 
 One tap mobile\n+13017158592\,\,95675246934# US (Germantown) 13126266799\,
 \,95675246934# US\n+(Chicago)\n\n Dial by your location\n        +1 301 71
 5 8592 US (Germantown)\n\n        +1 312 626 6799 US (Chicago)\n\n        
 +1 646 558 8656 US (New York)\n\n        +1 253 215 8782 US (Tacoma)\n\n  
       +1 346 248 7799 US (Houston)\n\n        +1 669 900 9128 US (San Jose
 )\nMeeting ID: 956 7524 6934\nPasscode: 935755\n\nFind your local number: 
 https://umich-health.zoom.us/u/acFKyiyEz9\n\nJoin by SIP\n95675246934@zoom
 crc.com\nJoin by H.323\n162.255.37.11 (US West)\n\n162.255.36.11 (US East)
 \n\n115.114.131.7 (India Mumbai)\n\n115.114.115.7 (India Hyderabad)\n\n213
 .19.144.110 (Amsterdam Netherlands)\n\n213.244.140.110 (Germany)\n\n103.12
 2.166.55 (Australia)\n\n149.137.40.110 (Singapore)\n\n64.211.144.160 (Braz
 il)\n\n69.174.57.160 (Canada)\n\n207.226.132.110 (Japan)\n\nMeeting ID: 95
 6 7524 6934\n
DTSTART;TZID=America/New_York:20211207T183000
DTEND;TZID=America/New_York:20211207T200000
LOCATION:https://umich-health.zoom.us/j/95675246934
SUMMARY:Neurologic Disorders Support Group (Times below are EST)
END:VEVENT
END:VCALENDAR
