BEGIN:VCALENDAR
VERSION:2.0
PRODID:-//sp-foundation.org//NONSGML kigkonsult.se iCalcreator 2.30.10//
CALSCALE:GREGORIAN
METHOD:PUBLISH
UID:0c85b614-f447-4a11-b88c-083ff2fe7d8a
X-WR-CALDESC:This is an open discussion regarding PLS everyone is welcome.
 \nUse the link\nhttps://als-org.zoom.us/j/82879731716
X-WR-RELCALID:3b3964a3dcfdfbc32316ba5398502d97
X-WR-TIMEZONE:America/Los_Angeles
BEGIN:VTIMEZONE
TZID:America/Los_Angeles
BEGIN:STANDARD
TZNAME:PST
DTSTART:20251102T020000
TZOFFSETFROM:-0700
TZOFFSETTO:-0800
RDATE:20261101T020000
END:STANDARD
BEGIN:DAYLIGHT
TZNAME:PDT
DTSTART:20260308T020000
TZOFFSETFROM:-0800
TZOFFSETTO:-0700
RDATE:20270314T020000
END:DAYLIGHT
END:VTIMEZONE
BEGIN:VEVENT
UID:289b3343-08ec-40dc-ad73-882a46c9239e
DTSTAMP:20260420T131608Z
DESCRIPTION:This is an open discussion regarding PLS everyone is welcome.\n
 Use the link\nhttps://als-org.zoom.us/j/82879731716
DTSTART;TZID=America/Los_Angeles:20260502T100000
DTEND;TZID=America/Los_Angeles:20260502T110000
LOCATION:https://als-org.zoom.us/j/82879731716
SUMMARY:PLS Support Group sponsored by the ALS Association
END:VEVENT
END:VCALENDAR
