BEGIN:VCALENDAR
VERSION:2.0
PRODID:-//sp-foundation.org//NONSGML kigkonsult.se iCalcreator 2.30.10//
CALSCALE:GREGORIAN
METHOD:PUBLISH
UID:091f46ad-32b2-4be2-9e9e-31840e22ab13
X-WR-CALDESC:This is an open discussion regarding PLS everyone is welcome.
 \nUse the link\nhttps://als-org.zoom.us/j/82879731716
X-WR-RELCALID:c96f3d1a1707f2f7f32cd8cdb12151d4
X-WR-TIMEZONE:America/Los_Angeles
BEGIN:VTIMEZONE
TZID:America/Los_Angeles
BEGIN:STANDARD
TZNAME:PST
DTSTART:20251102T020000
TZOFFSETFROM:-0700
TZOFFSETTO:-0800
RDATE:20261101T020000
RDATE:20271107T020000
END:STANDARD
BEGIN:DAYLIGHT
TZNAME:PDT
DTSTART:20260308T020000
TZOFFSETFROM:-0800
TZOFFSETTO:-0700
RDATE:20270314T020000
END:DAYLIGHT
END:VTIMEZONE
BEGIN:VEVENT
UID:74774adf-a49f-4400-90d0-5fc79bc2456d
DTSTAMP:20260420T132834Z
DESCRIPTION:This is an open discussion regarding PLS everyone is welcome.\n
 Use the link\nhttps://als-org.zoom.us/j/82879731716
DTSTART;TZID=America/Los_Angeles:20260704T100000
DTEND;TZID=America/Los_Angeles:20260704T110000
LOCATION:https://als-org.zoom.us/j/82879731716
SUMMARY:PLS Support Group sponsored by the ALS Association
END:VEVENT
END:VCALENDAR
