BEGIN:VCALENDAR
VERSION:2.0
PRODID:-//sp-foundation.org//NONSGML kigkonsult.se iCalcreator 2.30.10//
CALSCALE:GREGORIAN
METHOD:PUBLISH
UID:ccf88849-f008-40f2-8a0e-b70d4c2de8a7
X-WR-CALDESC:
X-WR-RELCALID:1b88b4c298fce0a51737899f9c85b917
X-WR-TIMEZONE:America/New_York
BEGIN:VTIMEZONE
TZID:America/New_York
BEGIN:STANDARD
TZNAME:EST
DTSTART:20251102T020000
TZOFFSETFROM:-0400
TZOFFSETTO:-0500
RDATE:20261101T020000
RDATE:20271107T020000
END:STANDARD
BEGIN:DAYLIGHT
TZNAME:EDT
DTSTART:20260308T020000
TZOFFSETFROM:-0500
TZOFFSETTO:-0400
RDATE:20270314T020000
END:DAYLIGHT
END:VTIMEZONE
BEGIN:VEVENT
UID:50fa87ee-d424-4911-b3d3-6dfca31e8437
DTSTAMP:20260422T115524Z
DESCRIPTION:
DTSTART;TZID=America/New_York:20260827T060000
DTEND;TZID=America/New_York:20260827T060001
LOCATION:
SUMMARY:HSP & PLS Awareness Day
END:VEVENT
END:VCALENDAR
