BEGIN:VCALENDAR
VERSION:2.0
PRODID:-//sp-foundation.org//NONSGML kigkonsult.se iCalcreator 2.30.10//
CALSCALE:GREGORIAN
METHOD:PUBLISH
UID:29076085-0c59-4297-a6f2-acf1c9b5debc
X-WR-CALDESC:
X-WR-RELCALID:d71ae723e179dd7c93d28e07de857805
X-WR-TIMEZONE:America/New_York
BEGIN:VTIMEZONE
TZID:America/New_York
BEGIN:STANDARD
TZNAME:EST
DTSTART:20251102T020000
TZOFFSETFROM:-0400
TZOFFSETTO:-0500
RDATE:20261101T020000
RDATE:20271107T020000
END:STANDARD
BEGIN:DAYLIGHT
TZNAME:EDT
DTSTART:20260308T020000
TZOFFSETFROM:-0500
TZOFFSETTO:-0400
RDATE:20270314T020000
RDATE:20280312T020000
END:DAYLIGHT
END:VTIMEZONE
BEGIN:VEVENT
UID:5ed77bd5-e05a-4435-945e-4e8f4b329330
DTSTAMP:20260420T132332Z
DESCRIPTION:
DTSTART;TZID=America/New_York:20261017T060000
DTEND;TZID=America/New_York:20261017T060001
LOCATION:https://us02web.zoom.us/meeting/register/WyIJ23XfQgeqg2gKe7aqMA
SUMMARY:World Day of HSPandPLS
END:VEVENT
END:VCALENDAR
