BEGIN:VCALENDAR
VERSION:2.0
PRODID:-//sp-foundation.org//NONSGML kigkonsult.se iCalcreator 2.30.10//
CALSCALE:GREGORIAN
METHOD:PUBLISH
UID:d5bc2017-a729-473c-825b-5d34e5214670
X-WR-CALDESC:
X-WR-RELCALID:7be98f14a15b2b64cabaecdf8eafe9f2
X-WR-TIMEZONE:America/New_York
BEGIN:VTIMEZONE
TZID:America/New_York
BEGIN:STANDARD
TZNAME:EST
DTSTART:20251102T020000
TZOFFSETFROM:-0400
TZOFFSETTO:-0500
RDATE:20261101T020000
RDATE:20271107T020000
END:STANDARD
BEGIN:DAYLIGHT
TZNAME:EDT
DTSTART:20260308T020000
TZOFFSETFROM:-0500
TZOFFSETTO:-0400
RDATE:20270314T020000
RDATE:20280312T020000
END:DAYLIGHT
END:VTIMEZONE
BEGIN:VEVENT
UID:5e3b9c56-7c34-490b-b1f9-68cd8806e428
DTSTAMP:20260420T133307Z
DESCRIPTION:
DTSTART;TZID=America/New_York:20261101T060000
DTEND;TZID=America/New_York:20261231T060001
LOCATION:https://sp-foundation.org/get-involved/events/end-of-the-year-appe
 al.html
SUMMARY:Annual Year End Matching Donor Program
END:VEVENT
END:VCALENDAR
