BEGIN:VCALENDAR
VERSION:2.0
PRODID:-//sp-foundation.org//NONSGML kigkonsult.se iCalcreator 2.30.10//
CALSCALE:GREGORIAN
METHOD:PUBLISH
UID:ba69d0d4-0572-4bd7-9a36-e25fba504bb5
X-WR-CALDESC:Rare Disease Day is an observance held on the last day of Febr
 uary to raise awareness for the 300 million people worldwide living with a
  rare diseases and improve access to treatment and medical representation 
 for individuals with rare diseases and their families.The date is chosen b
 ecause in leap years it is February 29\, the rarest date.
X-WR-RELCALID:f5203d436ea996a587c9339abfed6c09
X-WR-TIMEZONE:America/New_York
BEGIN:VTIMEZONE
TZID:America/New_York
BEGIN:STANDARD
TZNAME:EST
DTSTART:20261101T020000
TZOFFSETFROM:-0400
TZOFFSETTO:-0500
RDATE:20271107T020000
END:STANDARD
BEGIN:DAYLIGHT
TZNAME:EDT
DTSTART:20260308T020000
TZOFFSETFROM:-0500
TZOFFSETTO:-0400
RDATE:20270314T020000
RDATE:20280312T020000
END:DAYLIGHT
END:VTIMEZONE
BEGIN:VEVENT
UID:d5ea7dd4-18d2-4c3a-a77e-24f823414df0
DTSTAMP:20260420T133301Z
DESCRIPTION:Rare Disease Day is an observance held on the last day of Febru
 ary to raise awareness for the 300 million people worldwide living with a 
 rare diseases and improve access to treatment and medical representation f
 or individuals with rare diseases and their families.The date is chosen be
 cause in leap years it is February 29\, the rarest date.
DTSTART;TZID=America/New_York:20270228T060000
DTEND;TZID=America/New_York:20270228T060001
LOCATION:
SUMMARY:Rare Disease Day
END:VEVENT
END:VCALENDAR
