BEGIN:VCALENDAR
VERSION:2.0
PRODID:-//sp-foundation.org//NONSGML kigkonsult.se iCalcreator 2.30.10//
CALSCALE:GREGORIAN
METHOD:PUBLISH
UID:461eb92a-92f3-4e41-89fa-a9df18756edd
X-WR-CALDESC:
X-WR-RELCALID:af10f22c88cbfc3abdff1b85108d2699
X-WR-TIMEZONE:America/Denver
BEGIN:VTIMEZONE
TZID:America/Denver
BEGIN:STANDARD
TZNAME:MST
DTSTART:20251102T020000
TZOFFSETFROM:-0600
TZOFFSETTO:-0700
RDATE:20261101T020000
END:STANDARD
BEGIN:DAYLIGHT
TZNAME:MDT
DTSTART:20260308T020000
TZOFFSETFROM:-0700
TZOFFSETTO:-0600
RDATE:20270314T020000
END:DAYLIGHT
END:VTIMEZONE
BEGIN:VEVENT
UID:ece15529-a762-4ef8-a43c-326fd9815cfb
DTSTAMP:20260420T095822Z
DESCRIPTION:
DTSTART;TZID=America/Denver:20260503T040000
DTEND;TZID=America/Denver:20260503T040001
LOCATION:https://sp-foundation.networkforgood.com/projects/267410-2026-colo
 rado-marathon
SUMMARY:Coloado Marathon
END:VEVENT
END:VCALENDAR
