BEGIN:VCALENDAR
VERSION:2.0
PRODID:-//sp-foundation.org//NONSGML kigkonsult.se iCalcreator 2.30.10//
CALSCALE:GREGORIAN
METHOD:PUBLISH
UID:d95a63c8-f897-4a83-890e-2c09ac554b5e
X-WR-CALDESC:This meeting is for EVERYONE to learn about the current events
  of the Spastic Paraplegia Foundation.
X-WR-RELCALID:3318fd2218a7eaa18cbf830736bad579
X-WR-TIMEZONE:America/New_York
BEGIN:VTIMEZONE
TZID:America/New_York
BEGIN:STANDARD
TZNAME:EST
DTSTART:20251102T020000
TZOFFSETFROM:-0400
TZOFFSETTO:-0500
RDATE:20261101T020000
END:STANDARD
BEGIN:DAYLIGHT
TZNAME:EDT
DTSTART:20260308T020000
TZOFFSETFROM:-0500
TZOFFSETTO:-0400
RDATE:20270314T020000
END:DAYLIGHT
END:VTIMEZONE
BEGIN:VEVENT
UID:febdced0-ef6f-472b-b524-1ca569f10d40
DTSTAMP:20260420T100616Z
DESCRIPTION:This meeting is for EVERYONE to learn about the current events 
 of the Spastic Paraplegia Foundation.
DTSTART;TZID=America/New_York:20260507T200000
DTEND;TZID=America/New_York:20260507T210000
LOCATION:https://us02web.zoom.us/meeting/register/tZAodeigrTgoHtKQb4tpqCIPK
 jUAOHmHNgAg
SUMMARY:Joint Committee Zoom Work of the SPFoundation (1st Thursday) - (Tim
 es in EST)
END:VEVENT
END:VCALENDAR
