BEGIN:VCALENDAR
VERSION:2.0
PRODID:-//sp-foundation.org//NONSGML kigkonsult.se iCalcreator 2.30.10//
CALSCALE:GREGORIAN
METHOD:PUBLISH
UID:4f6466af-0fed-46d4-917f-c871bb5d295e
X-WR-CALDESC:This meeting is for EVERYONE to learn about the current events
  of the Spastic Paraplegia Foundation.
X-WR-RELCALID:5893b1509dc55b37b3cfd61ff77e21ff
X-WR-TIMEZONE:America/New_York
BEGIN:VTIMEZONE
TZID:America/New_York
BEGIN:STANDARD
TZNAME:EST
DTSTART:20251102T020000
TZOFFSETFROM:-0400
TZOFFSETTO:-0500
RDATE:20261101T020000
RDATE:20271107T020000
END:STANDARD
BEGIN:DAYLIGHT
TZNAME:EDT
DTSTART:20260308T020000
TZOFFSETFROM:-0500
TZOFFSETTO:-0400
RDATE:20270314T020000
END:DAYLIGHT
END:VTIMEZONE
BEGIN:VEVENT
UID:9fac72df-deae-4233-b70d-abbca2a6c227
DTSTAMP:20260420T100832Z
DESCRIPTION:This meeting is for EVERYONE to learn about the current events 
 of the Spastic Paraplegia Foundation.
DTSTART;TZID=America/New_York:20260604T200000
DTEND;TZID=America/New_York:20260604T210000
LOCATION:https://us02web.zoom.us/meeting/register/tZAodeigrTgoHtKQb4tpqCIPK
 jUAOHmHNgAg
SUMMARY:Joint Committee Zoom Work of the SPFoundation (1st Thursday) - (Tim
 es in EST)
END:VEVENT
END:VCALENDAR
