BEGIN:VCALENDAR
VERSION:2.0
PRODID:-//sp-foundation.org//NONSGML kigkonsult.se iCalcreator 2.30.10//
CALSCALE:GREGORIAN
METHOD:PUBLISH
UID:02532709-0495-4b7e-84af-274a70ab0ba0
X-WR-CALDESC:This is an open discussion regarding PLS everyone is welcome.
 \nUse the link\nhttps://als-org.zoom.us/j/82879731716
X-WR-RELCALID:091f6f1fc4afbed8f75460a182e1d2a8
X-WR-TIMEZONE:America/Los_Angeles
BEGIN:VTIMEZONE
TZID:America/Los_Angeles
BEGIN:STANDARD
TZNAME:PST
DTSTART:20251102T020000
TZOFFSETFROM:-0700
TZOFFSETTO:-0800
RDATE:20261101T020000
RDATE:20271107T020000
END:STANDARD
BEGIN:DAYLIGHT
TZNAME:PDT
DTSTART:20260308T020000
TZOFFSETFROM:-0800
TZOFFSETTO:-0700
RDATE:20270314T020000
END:DAYLIGHT
END:VTIMEZONE
BEGIN:VEVENT
UID:2f462b6f-53f7-4d64-a9c5-f156c61d8128
DTSTAMP:20260420T100118Z
DESCRIPTION:This is an open discussion regarding PLS everyone is welcome.\n
 Use the link\nhttps://als-org.zoom.us/j/82879731716
DTSTART;TZID=America/Los_Angeles:20260801T100000
DTEND;TZID=America/Los_Angeles:20260801T110000
LOCATION:https://als-org.zoom.us/j/82879731716
SUMMARY:PLS Support Group sponsored by the ALS Association
END:VEVENT
END:VCALENDAR
