BEGIN:VCALENDAR
VERSION:2.0
PRODID:-//sp-foundation.org//NONSGML kigkonsult.se iCalcreator 2.30.10//
CALSCALE:GREGORIAN
METHOD:PUBLISH
UID:2748eb28-185c-41fc-bb1d-08223046adfc
X-WR-CALDESC:This meeting is for EVERYONE to learn about the current events
  of the Spastic Paraplegia Foundation.
X-WR-RELCALID:18d883a000f00e056ad1f23f957b827b
X-WR-TIMEZONE:America/New_York
BEGIN:VTIMEZONE
TZID:America/New_York
BEGIN:STANDARD
TZNAME:EST
DTSTART:20251102T020000
TZOFFSETFROM:-0400
TZOFFSETTO:-0500
RDATE:20261101T020000
RDATE:20271107T020000
END:STANDARD
BEGIN:DAYLIGHT
TZNAME:EDT
DTSTART:20260308T020000
TZOFFSETFROM:-0500
TZOFFSETTO:-0400
RDATE:20270314T020000
END:DAYLIGHT
END:VTIMEZONE
BEGIN:VEVENT
UID:4f662f2d-d5a7-44bf-b0bd-55719f111404
DTSTAMP:20260420T100756Z
DESCRIPTION:This meeting is for EVERYONE to learn about the current events 
 of the Spastic Paraplegia Foundation.
DTSTART;TZID=America/New_York:20260903T200000
DTEND;TZID=America/New_York:20260903T210000
LOCATION:https://us02web.zoom.us/meeting/register/tZAodeigrTgoHtKQb4tpqCIPK
 jUAOHmHNgAg
SUMMARY:Joint Committee Zoom Work of the SPFoundation (1st Thursday) - (Tim
 es in EST)
END:VEVENT
END:VCALENDAR
