BEGIN:VCALENDAR
VERSION:2.0
PRODID:-//sp-foundation.org//NONSGML kigkonsult.se iCalcreator 2.30.10//
CALSCALE:GREGORIAN
METHOD:PUBLISH
UID:a490d2d4-bf41-4bc5-907a-a9a8b468dd53
X-WR-CALDESC:Drake Creek Golf Course
X-WR-RELCALID:9e8e731b85d56677d636ede9485b1936
X-WR-TIMEZONE:America/Chicago
BEGIN:VTIMEZONE
TZID:America/Chicago
BEGIN:STANDARD
TZNAME:CST
DTSTART:20251102T020000
TZOFFSETFROM:-0500
TZOFFSETTO:-0600
RDATE:20261101T020000
RDATE:20271107T020000
END:STANDARD
BEGIN:DAYLIGHT
TZNAME:CDT
DTSTART:20260308T020000
TZOFFSETFROM:-0600
TZOFFSETTO:-0500
RDATE:20270314T020000
RDATE:20280312T020000
END:DAYLIGHT
END:VTIMEZONE
BEGIN:VEVENT
UID:81b3833e-d354-4c40-8224-10d2e3dc8095
DTSTAMP:20260420T100118Z
DESCRIPTION:Drake Creek Golf Course
DTSTART;TZID=America/Chicago:20260912T050000
DTEND;TZID=America/Chicago:20260912T050001
LOCATION:1 Torrey Pines Dr\, Ledbetter\, KY 42058 US
SUMMARY:Golfing for Rare Diseases 11th Annual
END:VEVENT
END:VCALENDAR
