BEGIN:VCALENDAR
VERSION:2.0
PRODID:-//sp-foundation.org//NONSGML kigkonsult.se iCalcreator 2.30.10//
CALSCALE:GREGORIAN
METHOD:PUBLISH
UID:0e994cc5-87f9-4794-aac1-11f68ff34480
X-WR-CALDESC:This is an open discussion regarding PLS everyone is welcome.
 \nUse the link\nhttps://als-org.zoom.us/j/82879731716
X-WR-RELCALID:be1fae97e2029c8fe9316286b174a0ad
X-WR-TIMEZONE:America/Los_Angeles
BEGIN:VTIMEZONE
TZID:America/Los_Angeles
BEGIN:STANDARD
TZNAME:PST
DTSTART:20251102T020000
TZOFFSETFROM:-0700
TZOFFSETTO:-0800
RDATE:20261101T020000
RDATE:20271107T020000
END:STANDARD
BEGIN:DAYLIGHT
TZNAME:PDT
DTSTART:20260308T020000
TZOFFSETFROM:-0800
TZOFFSETTO:-0700
RDATE:20270314T020000
RDATE:20280312T020000
END:DAYLIGHT
END:VTIMEZONE
BEGIN:VEVENT
UID:0e24518c-369f-4e21-ad1f-3fa31bf2a324
DTSTAMP:20260420T100430Z
DESCRIPTION:This is an open discussion regarding PLS everyone is welcome.\n
 Use the link\nhttps://als-org.zoom.us/j/82879731716
DTSTART;TZID=America/Los_Angeles:20261003T100000
DTEND;TZID=America/Los_Angeles:20261003T110000
LOCATION:https://als-org.zoom.us/j/82879731716
SUMMARY:PLS Support Group sponsored by the ALS Association
END:VEVENT
END:VCALENDAR
