BEGIN:VCALENDAR
VERSION:2.0
PRODID:-//sp-foundation.org//NONSGML kigkonsult.se iCalcreator 2.30.10//
CALSCALE:GREGORIAN
METHOD:PUBLISH
UID:e5da0570-ba35-47a9-86fc-20da2a3534ee
X-WR-CALDESC:About GivingTuesday\nGivingTuesday is a global generosity move
 ment unleashing the power of radical generosity. GivingTuesday was created
  in 2012 as a simple idea: a day that encourages people to do good. Since 
 then\, it has grown into a year-round global movement that inspires hundre
 ds of millions of people to give\, collaborate\, and celebrate generosity.
 \n\nJoin the movement and give\, whether it’s some of your time\, a donati
 on\, or the power of your voice in your local community.\n\nIt’s a simple 
 idea: whether it’s making someone smile\, helping a neighbor or stranger o
 ut\, showing up for an issue or people we care about\, or giving some of w
 hat we have to those who need our help\, every act of generosity counts an
 d everyone has something to contribute toward building the better world we
  all want to live in.
X-WR-RELCALID:fcfac8e3ee38a47ad0746ada2edf1491
X-WR-TIMEZONE:America/New_York
BEGIN:VTIMEZONE
TZID:America/New_York
BEGIN:STANDARD
TZNAME:EST
DTSTART:20261101T020000
TZOFFSETFROM:-0400
TZOFFSETTO:-0500
RDATE:20271107T020000
END:STANDARD
BEGIN:DAYLIGHT
TZNAME:EDT
DTSTART:20260308T020000
TZOFFSETFROM:-0500
TZOFFSETTO:-0400
RDATE:20270314T020000
RDATE:20280312T020000
END:DAYLIGHT
END:VTIMEZONE
BEGIN:VEVENT
UID:1cf8aadb-6355-4643-9d07-513b8e8cf6a4
DTSTAMP:20260420T100430Z
DESCRIPTION:About GivingTuesday\nGivingTuesday is a global generosity movem
 ent unleashing the power of radical generosity. GivingTuesday was created 
 in 2012 as a simple idea: a day that encourages people to do good. Since t
 hen\, it has grown into a year-round global movement that inspires hundred
 s of millions of people to give\, collaborate\, and celebrate generosity.
 \n\nJoin the movement and give\, whether it’s some of your time\, a donati
 on\, or the power of your voice in your local community.\n\nIt’s a simple 
 idea: whether it’s making someone smile\, helping a neighbor or stranger o
 ut\, showing up for an issue or people we care about\, or giving some of w
 hat we have to those who need our help\, every act of generosity counts an
 d everyone has something to contribute toward building the better world we
  all want to live in.
DTSTART;TZID=America/New_York:20261202T060000
DTEND;TZID=America/New_York:20261202T060001
LOCATION:https://sp-foundation.org/get-involved/events/end-of-the-year-appe
 al.html
SUMMARY:Giving Tuesday
END:VEVENT
END:VCALENDAR
