BEGIN:VCALENDAR
VERSION:2.0
PRODID:-//sp-foundation.org//NONSGML kigkonsult.se iCalcreator 2.30.10//
CALSCALE:GREGORIAN
METHOD:PUBLISH
UID:a7d046e5-6164-46d5-ae63-d6eb0deaabec
X-WR-CALDESC:This meeting is for EVERYONE to learn about the current events
  of the Spastic Paraplegia Foundation.
X-WR-RELCALID:41ab9991fd0642b19f0019a735b1c327
X-WR-TIMEZONE:America/New_York
BEGIN:VTIMEZONE
TZID:America/New_York
BEGIN:STANDARD
TZNAME:EST
DTSTART:20261101T020000
TZOFFSETFROM:-0400
TZOFFSETTO:-0500
RDATE:20271107T020000
END:STANDARD
BEGIN:DAYLIGHT
TZNAME:EDT
DTSTART:20260308T020000
TZOFFSETFROM:-0500
TZOFFSETTO:-0400
RDATE:20270314T020000
RDATE:20280312T020000
END:DAYLIGHT
END:VTIMEZONE
BEGIN:VEVENT
UID:4c129209-1cfe-4e2e-afbe-2cb37dd193f6
DTSTAMP:20260420T100755Z
DESCRIPTION:This meeting is for EVERYONE to learn about the current events 
 of the Spastic Paraplegia Foundation.
DTSTART;TZID=America/New_York:20270107T200000
DTEND;TZID=America/New_York:20270107T210000
LOCATION:https://us02web.zoom.us/meeting/register/tZAodeigrTgoHtKQb4tpqCIPK
 jUAOHmHNgAg
SUMMARY:Joint Committee Zoom Work of the SPFoundation (1st Thursday) - (Tim
 es in EST)
END:VEVENT
END:VCALENDAR
